BEGIN:VCALENDAR
VERSION:2.0
PRODID:-//wp-events-plugin.com//7.2.3.1//EN
TZID:Europe/Berlin
X-WR-TIMEZONE:Europe/Berlin
BEGIN:VEVENT
UID:953@rfv-1900-wiednitz.de
DTSTART;TZID=Europe/Berlin:20260509T140000
DTEND;TZID=Europe/Berlin:20260509T170000
DTSTAMP:20260424T162325Z
URL:https://www.rfv-1900-wiednitz.de/events/radball-halbfinale-deutscher-m
 eisterschaft-schueler-u15-2/
SUMMARY:Radball - Halbfinale Deutscher Meisterschaft Schüler U15
DESCRIPTION:Nach der erfolgreichen Qualifikation am 19.4. geht am 9.5. ums 
 Ganze:\nTim und Nik wollen ins Finale!\n\nSie sind herzlich eingeladen\, d
 ie beiden zu unterstützen.\n\n
CATEGORIES:Wettkampf
LOCATION:Sporthalle "Wiednitz"\, Dorfstraße 4\, Wiednitz\, Sachsen\, 02994
 \, Deutschland
GEO:51.386395;14.029548
X-APPLE-STRUCTURED-LOCATION;VALUE=URI;X-ADDRESS=Dorfstraße 4\, Wiednitz\, 
 Sachsen\, 02994\, Deutschland;X-APPLE-RADIUS=100;X-TITLE=Sporthalle \"Wied
 nitz\":geo:51.386395,14.029548
END:VEVENT
BEGIN:VTIMEZONE
TZID:Europe/Berlin
X-LIC-LOCATION:Europe/Berlin
BEGIN:DAYLIGHT
DTSTART:20260329T030000
TZOFFSETFROM:+0100
TZOFFSETTO:+0200
TZNAME:CEST
END:DAYLIGHT
END:VTIMEZONE
END:VCALENDAR