BEGIN:VCALENDAR
VERSION:2.0
PRODID:-//wp-events-plugin.com//7.2.3.1//EN
TZID:Europe/Berlin
X-WR-TIMEZONE:Europe/Berlin
BEGIN:VEVENT
UID:952@rfv-1900-wiednitz.de
DTSTART;TZID=Europe/Berlin:20260425T100000
DTEND;TZID=Europe/Berlin:20260425T150000
DTSTAMP:20260226T151055Z
URL:https://www.rfv-1900-wiednitz.de/events/radball-bezirksliga-maenner-2/
SUMMARY:Radball Bezirksliga Männer
DESCRIPTION:Für den RfV am Start:\n\nWiednitz 3: Maik Pjater und René Din
 gel
CATEGORIES:Wettkampf
LOCATION:Saal Jägerhof "Wiednitz"\, Dorfstraße 4\, Wiednitz\, Sachsen\, 0
 2994\, Deutschland
GEO:51.386395;14.029548
X-APPLE-STRUCTURED-LOCATION;VALUE=URI;X-ADDRESS=Dorfstraße 4\, Wiednitz\, 
 Sachsen\, 02994\, Deutschland;X-APPLE-RADIUS=100;X-TITLE=Saal Jägerhof \"
 Wiednitz\":geo:51.386395,14.029548
END:VEVENT
BEGIN:VTIMEZONE
TZID:Europe/Berlin
X-LIC-LOCATION:Europe/Berlin
BEGIN:DAYLIGHT
DTSTART:20260329T030000
TZOFFSETFROM:+0100
TZOFFSETTO:+0200
TZNAME:CEST
END:DAYLIGHT
END:VTIMEZONE
END:VCALENDAR